BEGIN:VCALENDAR
VERSION:2.0
PRODID:-//Experience Anatomy - ECPv6.15.18//NONSGML v1.0//EN
CALSCALE:GREGORIAN
METHOD:PUBLISH
X-ORIGINAL-URL:https://experienceanatomy.com
X-WR-CALDESC:Events for Experience Anatomy
REFRESH-INTERVAL;VALUE=DURATION:PT1H
X-Robots-Tag:noindex
X-PUBLISHED-TTL:PT1H
BEGIN:VTIMEZONE
TZID:America/Indiana/Indianapolis
BEGIN:DAYLIGHT
TZOFFSETFROM:-0500
TZOFFSETTO:-0400
TZNAME:EDT
DTSTART:20180311T070000
END:DAYLIGHT
BEGIN:STANDARD
TZOFFSETFROM:-0400
TZOFFSETTO:-0500
TZNAME:EST
DTSTART:20181104T060000
END:STANDARD
BEGIN:DAYLIGHT
TZOFFSETFROM:-0500
TZOFFSETTO:-0400
TZNAME:EDT
DTSTART:20190310T070000
END:DAYLIGHT
BEGIN:STANDARD
TZOFFSETFROM:-0400
TZOFFSETTO:-0500
TZNAME:EST
DTSTART:20191103T060000
END:STANDARD
BEGIN:DAYLIGHT
TZOFFSETFROM:-0500
TZOFFSETTO:-0400
TZNAME:EDT
DTSTART:20200308T070000
END:DAYLIGHT
BEGIN:STANDARD
TZOFFSETFROM:-0400
TZOFFSETTO:-0500
TZNAME:EST
DTSTART:20201101T060000
END:STANDARD
BEGIN:DAYLIGHT
TZOFFSETFROM:-0500
TZOFFSETTO:-0400
TZNAME:EDT
DTSTART:20210314T070000
END:DAYLIGHT
BEGIN:STANDARD
TZOFFSETFROM:-0400
TZOFFSETTO:-0500
TZNAME:EST
DTSTART:20211107T060000
END:STANDARD
BEGIN:DAYLIGHT
TZOFFSETFROM:-0500
TZOFFSETTO:-0400
TZNAME:EDT
DTSTART:20220313T070000
END:DAYLIGHT
BEGIN:STANDARD
TZOFFSETFROM:-0400
TZOFFSETTO:-0500
TZNAME:EST
DTSTART:20221106T060000
END:STANDARD
BEGIN:DAYLIGHT
TZOFFSETFROM:-0500
TZOFFSETTO:-0400
TZNAME:EDT
DTSTART:20230312T070000
END:DAYLIGHT
BEGIN:STANDARD
TZOFFSETFROM:-0400
TZOFFSETTO:-0500
TZNAME:EST
DTSTART:20231105T060000
END:STANDARD
BEGIN:DAYLIGHT
TZOFFSETFROM:-0500
TZOFFSETTO:-0400
TZNAME:EDT
DTSTART:20240310T070000
END:DAYLIGHT
BEGIN:STANDARD
TZOFFSETFROM:-0400
TZOFFSETTO:-0500
TZNAME:EST
DTSTART:20241103T060000
END:STANDARD
END:VTIMEZONE
BEGIN:VEVENT
DTSTART;TZID=America/Indiana/Indianapolis:20230211T100000
DTEND;TZID=America/Indiana/Indianapolis:20230211T130000
DTSTAMP:20260421T054224
CREATED:20220921T013958Z
LAST-MODIFIED:20221027T152540Z
UID:5991-1676109600-1676120400@experienceanatomy.com
SUMMARY:Anatomy Art
DESCRIPTION:Weaving science and art goes back to the Renaissance Age where Leonardo DaVinci made drawings of the human body as an integral part of studying anatomy. Here at Experience Anatomy\, we provide real human tissue through plastinates and cadavers for artists and scientists alike who want a deeper view of the human body. \nOur Anatomy Art course offers students the use of our plastinate as references to sketch general anatomical form or find deeper anatomical relationships that you can’t see in other 2D references. Take a step inside our lab space and dissect our softly embalmed cadaveric donors to visualize life-like human tissue\, more akin to the tissue you’ll see in an OR. Sift through our surgical tools and dissect a specific region of the body to visualize the perfect still to create an image to add to your portfolio. \nOur anatomists will help with the dissection process to both demonstrate dissection techniques and to provide additional detailed dissections of specific structures. They will also be able to answer all your specific questions pertaining to anatomical structures that you see in the plastinates and the cadaver to fully paint a picture of the human body\, form and function. Participants will come away with a deeper understanding and appreciation of the human body. We are grateful to our donors as they are truly our greatest teachers. We honor our donors by using their gift to improve the lives of others. \nAre you ready to REGISTER?\nPlease note: While this event is kid friendly\,  young children will require parent supervision.
URL:https://experienceanatomy.com/event/anatomy-art-2/
LOCATION:Experience Anatomy\, 4340 Taggart Creek Rd\, Charlotte\, NC\, 28208\, United States
CATEGORIES:Community,Continuing Education,Kid Friendly,Professional Development
ATTACH;FMTTYPE=image/jpeg:https://experienceanatomy.com/wp-content/uploads/Untitled-design-2-1.jpg
END:VEVENT
BEGIN:VEVENT
DTSTART;TZID=America/Indiana/Indianapolis:20230204T143000
DTEND;TZID=America/Indiana/Indianapolis:20230204T163000
DTSTAMP:20260421T054224
CREATED:20220921T015006Z
LAST-MODIFIED:20230118T192625Z
UID:6001-1675521000-1675528200@experienceanatomy.com
SUMMARY:Open House
DESCRIPTION:Experience Anatomy is hosting a FREE Open House to students\, educators\, businesses\, and healthcare professionals. All are welcome to drop by and meet our staff\, hold human plastinated specimen\, and learn about our upcoming events. We are excited to add more anatomical educational programs and resources to our 2023 calendar and we want YOU to get involved. \nWho Should Come? \n\nStudents looking for off-campus educational activities or thinking about diving into a healthcare career should visit our facility and speak with our team about resume-building programs.\n\n\nEducators looking to add an anatomy field trip to their schedule or wish to have their students learn with our plastinates should come check out our resources and learn about our educational opportunities.\n\n\nHealthcare professionals ready to explore the human body with a hands-on dissection course are encouraged to take advantage of our dissection programs\, some of which offer CE credit.\n\n\nBusinesses looking to add educational resources to their company to provide exceptional anatomy education should stop by and ask about how we can accommodate your needs.\n\nWe look forward to seeing you there! \nLet us know you are coming my registering HERE.
URL:https://experienceanatomy.com/event/open-house-2/
LOCATION:Experience Anatomy\, 4340 Taggart Creek Rd\, Charlotte\, NC\, 28208\, United States
CATEGORIES:Community
ATTACH;FMTTYPE=image/jpeg:https://experienceanatomy.com/wp-content/uploads/Untitled-design-14.jpg
END:VEVENT
BEGIN:VEVENT
DTSTART;VALUE=DATE:20220808
DTEND;VALUE=DATE:20220813
DTSTAMP:20260421T054224
CREATED:20211216T212112Z
LAST-MODIFIED:20220406T153034Z
UID:5600-1659916800-1660348799@experienceanatomy.com
SUMMARY:Discover Anatomy: Summer Camp Grades 9-12
DESCRIPTION:Experience Anatomy has designed a unique\, fully immersive academic experience to provide a 3-dimentional perspective of the structure and function of the human body. Students will have the opportunity to study human cadaver tissue and dissect animal tissue. By the end of this weeklong course\, participants will be able to state the major functions of the cardiovascular\, nervous\, digestive\, respiratory and visual systems. \n  \nCamp hours are 9am-12:00pm daily. \n  \nRegister HERE
URL:https://experienceanatomy.com/event/discover-anatomy-summer-camp-grades-9-12/
LOCATION:Experience Anatomy\, 4340 Taggart Creek Rd\, Charlotte\, NC\, 28208\, United States
CATEGORIES:Community
ATTACH;FMTTYPE=image/png:https://experienceanatomy.com/wp-content/uploads/Untitled-design-3-e1639685783300.png
END:VEVENT
BEGIN:VEVENT
DTSTART;VALUE=DATE:20220711
DTEND;VALUE=DATE:20220716
DTSTAMP:20260421T054224
CREATED:20211216T211603Z
LAST-MODIFIED:20220406T153121Z
UID:5596-1657497600-1657929599@experienceanatomy.com
SUMMARY:Discover Anatomy: Summer Camp Grades 5-8
DESCRIPTION:Experience Anatomy has designed a unique\, fully immersive academic experience to provide a 3-dimentional perspective of the structure and function of the human body. Students will have the opportunity to study human cadaver tissue and dissect animal tissue. By the end of this weeklong course\, participants will be able to state the major functions of the cardiovascular\, nervous\, digestive\, respiratory and visual systems. \n  \nCamp hours are 9am-12:00pm daily. \n  \nRegister HERE
URL:https://experienceanatomy.com/event/discover-anatomy-summer-camp-grades-5-8/
LOCATION:Experience Anatomy\, 4340 Taggart Creek Rd\, Charlotte\, NC\, 28208\, United States
CATEGORIES:Community
ATTACH;FMTTYPE=image/png:https://experienceanatomy.com/wp-content/uploads/Untitled-design-3-e1639685783300.png
END:VEVENT
BEGIN:VEVENT
DTSTART;TZID=America/Indiana/Indianapolis:20220524T173000
DTEND;TZID=America/Indiana/Indianapolis:20220524T193000
DTSTAMP:20260421T054224
CREATED:20220406T151344Z
LAST-MODIFIED:20220406T153511Z
UID:5696-1653413400-1653420600@experienceanatomy.com
SUMMARY:Discovering Anatomy Culture Blocks: Digestive System
DESCRIPTION:Register HERE\nDid you know that digestive system anatomy consists of the gastrointestinal (GI) tract and the accessory organs. The gastrointestinal tract is the physical pathway in which food travels through the body to be processed and digested while the accessory organs aid in digestion by adding digestive enzymes. Follow the path food takes through the body from mouth to anus by dissecting a fetal pig and identifying the various parts of the digestive system. \nThe digestive system is just one topic in Experience Anatomy’s 4-part dissection series intended to explore the wonders of the human body. The entire series will expose participants to the cardiovascular\, nervous\, visual and digestive system. Participants will assess their own physiology\, examine preserved human organs\, and dissect animal tissue to ensure ideas are processed in an interactive format. \nCourse material is intended for learners ages 12-18 and parents are encouraged to accompany younger participants. Join us to Experience Anatomy! \nThe Discovering Anatomy Dissection Series is sponsored by Culture Blocks – a community partnership funded by Mecklenburg County.
URL:https://experienceanatomy.com/event/discovering-anatomy-culture-blocks-digestive-system/
LOCATION:Eastway Regional Recreation Center\, 3150 Eastway Park Drive\, Charlotte\, NC\, 28213\, United States
CATEGORIES:Community,Dissection Series
ATTACH;FMTTYPE=image/png:https://experienceanatomy.com/wp-content/uploads/Untitled-design-16.png
END:VEVENT
BEGIN:VEVENT
DTSTART;TZID=America/Indiana/Indianapolis:20220521T093000
DTEND;TZID=America/Indiana/Indianapolis:20220521T113000
DTSTAMP:20260421T054224
CREATED:20220406T151148Z
LAST-MODIFIED:20220406T153532Z
UID:5693-1653125400-1653132600@experienceanatomy.com
SUMMARY:Discovering Anatomy Culture Blocks: Nervous System
DESCRIPTION:Register HERE\nThe brain is a complex organ composed of billions of neurons that controls every process within the body including thought\, memory\, emotion\, movement\, touch\, breathing\, vision\, and hunger. Explore the various structures involved in these processes and discuss how neurons communicate within the brain while dissecting a sheep brain in this course. We will also look the human brain and nervous system. \nThe nervous system is just one topic in Experience Anatomy’s 4-part dissection series intended to explore the wonders of the human body. The entire series will expose participants to the cardiovascular\, nervous\, visual and digestive system. Participants will assess their own physiology\, examine preserved human organs\, and dissect animal tissue to ensure ideas are processed in an interactive format. \nCourse material is intended for learners ages 12-18 and parents are encouraged to accompany younger participants. Join us to Experience Anatomy! \nThe Discovering Anatomy Dissection Series is sponsored by Culture Blocks – a community partnership funded by Mecklenburg County.
URL:https://experienceanatomy.com/event/discovering-anatomy-culture-blocks-nervous-system/
LOCATION:Eastway Regional Recreation Center\, 3150 Eastway Park Drive\, Charlotte\, NC\, 28213\, United States
CATEGORIES:Community,Dissection Series
ATTACH;FMTTYPE=image/jpeg:https://experienceanatomy.com/wp-content/uploads/brain-in-hands-1.jpg
END:VEVENT
BEGIN:VEVENT
DTSTART;TZID=America/Indiana/Indianapolis:20220517T173000
DTEND;TZID=America/Indiana/Indianapolis:20220517T193000
DTSTAMP:20260421T054224
CREATED:20220406T150628Z
LAST-MODIFIED:20220406T153547Z
UID:5688-1652808600-1652815800@experienceanatomy.com
SUMMARY:Discovering Anatomy Culture Blocks: Cardiovascular System
DESCRIPTION:Register HERE\nDid you know the heart does more physical work than any other muscle in the body over a lifetime? The heart pumps on average over 100\,000 times per day to continuously distribute oxygen and nutrients to every corner of the body. Dissect a pig heart in this course to identify the anatomy that allows the heart to work as an effective pump. We will also look at multiple human specimens to see natural variation as well as pathologies. \nThe cardiovascular system is just one topic in Experience Anatomy’s 4-part dissection series intended to explore the wonders of the human body. The entire series will expose participants to the cardiovascular\, nervous\, visual and digestive system. Participants will assess their own physiology\, examine preserved human organs\, and dissect animal tissue to ensure ideas are processed in an interactive format. \nCourse material is intended for learners ages 12-18 and parents are encouraged to accompany younger participants. Join us to Experience Anatomy! \nThe Discovering Anatomy Dissection Series is sponsored by Culture Blocks – a community partnership funded by Mecklenburg County.
URL:https://experienceanatomy.com/event/discovering-anatomy-culture-blocks-cardiovascular-system/
LOCATION:Eastway Regional Recreation Center\, 3150 Eastway Park Drive\, Charlotte\, NC\, 28213\, United States
CATEGORIES:Community,Dissection Series
ATTACH;FMTTYPE=image/png:https://experienceanatomy.com/wp-content/uploads/Untitled-design-15.png
END:VEVENT
BEGIN:VEVENT
DTSTART;TZID=America/Indiana/Indianapolis:20220507T093000
DTEND;TZID=America/Indiana/Indianapolis:20220507T113000
DTSTAMP:20260421T054224
CREATED:20220406T150149Z
LAST-MODIFIED:20220406T153603Z
UID:5677-1651915800-1651923000@experienceanatomy.com
SUMMARY:Discovering Anatomy Culture Blocks: Visual System
DESCRIPTION:Register HERE\nThe eyeball has the unique ability to turn light from the outside world into electrical impulses that allow the brain to interpret what we see via specialized cells called photoreceptors. Just like a camera\, the eyeball must adjust focus to see clearly. Discover the layers and structures of the eyeball that allow it to communicate with the brain by dissecting a cow eye in this course. You will see the world in a whole new way! \nThe visual system is just one topic in Experience Anatomy’s 4-part dissection series intended to explore the wonders of the human body. The entire series will expose participants to the cardiovascular\, nervous\, visual and digestive system. Participants will assess their own physiology\, examine preserved human organs\, and dissect animal tissue to ensure ideas are processed in an interactive format. \nCourse material is intended for learners ages 12-18 and parents are encouraged to accompany younger participants. Join us to Experience Anatomy! \nThe Discovering Anatomy Dissection Series is sponsored by Culture Blocks – a community partnership funded by Mecklenburg County.
URL:https://experienceanatomy.com/event/discovering-anatomy-culture-blocks-visual-system/
LOCATION:Eastway Regional Recreation Center\, 3150 Eastway Park Drive\, Charlotte\, NC\, 28213\, United States
CATEGORIES:Community,Dissection Series
ATTACH;FMTTYPE=image/png:https://experienceanatomy.com/wp-content/uploads/BRCvoRbg.png
END:VEVENT
BEGIN:VEVENT
DTSTART;TZID=America/Indiana/Indianapolis:20220106T173000
DTEND;TZID=America/Indiana/Indianapolis:20220106T193000
DTSTAMP:20260421T054224
CREATED:20210826T192752Z
LAST-MODIFIED:20211216T191805Z
UID:5519-1641490200-1641497400@experienceanatomy.com
SUMMARY:Open House
DESCRIPTION:Experience Anatomy is a premier\, innovative anatomy education provider for those seeking the highest-caliber\, unparalleled training with true human specimens. Experience Anatomy has a variety of developed programming that serves young students all the way through practicing clinicians. \nAttend our FREE Open House to see the Experience Anatomy facilities\, hold human plastinated specimen and cadaveric dissections and learn more about our anatomical programming! \n  \nWe look forward to seeing you there!
URL:https://experienceanatomy.com/event/open-house/
LOCATION:Experience Anatomy\, 4340 Taggart Creek Rd\, Charlotte\, NC\, 28208\, United States
CATEGORIES:Community
ATTACH;FMTTYPE=image/jpeg:https://experienceanatomy.com/wp-content/uploads/Untitled-design-14.jpg
END:VEVENT
BEGIN:VEVENT
DTSTART;TZID=America/Indiana/Indianapolis:20210417T140000
DTEND;TZID=America/Indiana/Indianapolis:20210417T160000
DTSTAMP:20260421T054224
CREATED:20210309T153446Z
LAST-MODIFIED:20210318T161945Z
UID:5233-1618668000-1618675200@experienceanatomy.com
SUMMARY:FREE Anatomy Art Event
DESCRIPTION:Come join us at the Spoke Easy bike shop where we will have stations of authentic human specimens set up for artists or curious minds to examine\, sketch and learn more about our intricate human bodies. \nThe anatomy included will consist of plastinated specimens from the creators of Body Worlds and bones that have been dried out and preserved for educational purposes. \nPlease bring your own art materials. \n  \nThis is a free and child appropriate event! Register HERE. \n  \n**Creating art is not a requirement.  We simply want to share our love of anatomy with others!
URL:https://experienceanatomy.com/event/anatomy-art/
LOCATION:The Spoke Easy Bike Shop\, 1530 Elizabeth Avenue\, Suite 100\, Charlotte\, NC\, 28204\, United States
CATEGORIES:Community
ATTACH;FMTTYPE=image/jpeg:https://experienceanatomy.com/wp-content/uploads/Untitled-design-2-1.jpg
END:VEVENT
BEGIN:VEVENT
DTSTART;TZID=America/Indiana/Indianapolis:20200215T080000
DTEND;TZID=America/Indiana/Indianapolis:20200215T170000
DTSTAMP:20260421T054224
CREATED:20200610T122422Z
LAST-MODIFIED:20200610T122422Z
UID:4782-1581753600-1581786000@experienceanatomy.com
SUMMARY:Dissection Club- Open House
DESCRIPTION:An informational session for Dissection Club
URL:https://experienceanatomy.com/event/dissection-club-open-house-2/
LOCATION:NC
CATEGORIES:Community,Continuing Education
ATTACH;FMTTYPE=image/jpeg:https://experienceanatomy.com/wp-content/uploads/dissection-club3.jpg
END:VEVENT
BEGIN:VEVENT
DTSTART;TZID=America/Indiana/Indianapolis:20191106T080000
DTEND;TZID=America/Indiana/Indianapolis:20191106T170000
DTSTAMP:20260421T054224
CREATED:20200610T122949Z
LAST-MODIFIED:20200610T122949Z
UID:4786-1573027200-1573059600@experienceanatomy.com
SUMMARY:Anatomy Art Event
DESCRIPTION:Open session with C3 labs
URL:https://experienceanatomy.com/event/anatomy-art-event/
LOCATION:NC
CATEGORIES:Community
ATTACH;FMTTYPE=image/jpeg:https://experienceanatomy.com/wp-content/uploads/anatomy-art.jpg
END:VEVENT
BEGIN:VEVENT
DTSTART;TZID=America/Indiana/Indianapolis:20190922T080000
DTEND;TZID=America/Indiana/Indianapolis:20190922T170000
DTSTAMP:20260421T054224
CREATED:20200610T122625Z
LAST-MODIFIED:20200610T122625Z
UID:4784-1569139200-1569171600@experienceanatomy.com
SUMMARY:Yoga and Anatomy Session
DESCRIPTION:Plastinates incorporated into yoga practice
URL:https://experienceanatomy.com/event/yoga-and-anatomy-session/
LOCATION:NC
CATEGORIES:Community,Continuing Education
ATTACH;FMTTYPE=image/jpeg:https://experienceanatomy.com/wp-content/uploads/brain-in-hands.jpg
END:VEVENT
END:VCALENDAR